BEGIN:VCALENDAR
VERSION:2.0
PRODID:-//wp-events-plugin.com//7.2.3.1//EN
TZID:Europe/Berlin
X-WR-TIMEZONE:Europe/Berlin
BEGIN:VEVENT
UID:0-185@femmetotal.de
DTSTART;TZID=Europe/Berlin:20130110T100000
DTEND;TZID=Europe/Berlin:20130110T123000
DTSTAMP:20170121T172047Z
URL:https://femmetotal.de/events/coaching-club-10/
SUMMARY:Coaching-Club
DESCRIPTION:Thema:Ziele sind auf dem Kopf stehende Wünsche! Wenn du Wünsc
 he hast\, hast du auch Ziele - und umgekehrt! Wenn ihr einen Vormittag in 
 die eigene Weiterentwicklung investieren wollt\, lade ich Euch herzlich ei
 n\, sich im empathischen Kreise eine ganz persönliche Lösung abzuholen u
 nd mitzuerleben\, wie einfach es sein kann\, wirklich authentische Ziele z
 u formulieren! Ein Wunsch ist etwas\, was ich erreichen möchte - also ein
  Ziel! Ein Ziel ist etwas\, was ich noch nicht erreicht habe\, d.h. ein Wu
 nsch! Im Grunde ist es also ganz einfach\, Ziele zu entwickeln\, einfach i
 n sich hineinhorchen und die innersten Wünsche und Herzensanliegen aufst
 öbern! Deshalb wollen wir uns an diesem Morgen - und im 1. Coachingclub v
 on 2013 mit der Formulierung von Zielen beschäftigen.\n\nBitte meldet euc
 h bis 1 Tag vorher an bei Jenison Thomkins / www.nlp-atelier.de / Email: i
 nfo@nlp-atelier.de / Tel: 0221-525799
CATEGORIES:FEMME TOTAL
END:VEVENT
BEGIN:VTIMEZONE
TZID:Europe/Berlin
X-LIC-LOCATION:Europe/Berlin
BEGIN:STANDARD
DTSTART:20121028T020000
TZOFFSETFROM:+0200
TZOFFSETTO:+0100
TZNAME:CET
END:STANDARD
END:VTIMEZONE
END:VCALENDAR