BEGIN:VCALENDAR
VERSION:2.0
PRODID:-//wp-events-plugin.com//7.2.3.1//EN
TZID:Europe/Berlin
X-WR-TIMEZONE:Europe/Berlin
BEGIN:VEVENT
UID:0-2954@femmetotal.de
DTSTART;TZID=Europe/Berlin:20191219T100000
DTEND;TZID=Europe/Berlin:20191219T123000
DTSTAMP:20191115T130250Z
URL:https://femmetotal.de/events/coaching-club-2019-12-19/
SUMMARY:Coaching-Club
DESCRIPTION:Loslassen – wie geht das?\n\nMithilfe tiefgehender NLP-Format
 e findest du heraus\, wie du von Unnützem und Negativem ohne Bauchschmerz
 en und Hadern loslassen kannst. Ob zugemüllter Schreibtisch\, belastende 
 Beziehungen oder negative Glaubenssätze\, du erlebst die befreiende Wirku
 ng von innerer Klärung und Ordnung\, die es dir leicht macht\, Priorität
 en für ein selbstbestimmtes Leben zu setzen.\n\nIm Coaching-Club geht es 
 um intensive Gespräche\, Supervision und Coaching.\nEs gibt immer ein The
 ma und eine NLP-Methode\, die praktisch vorgestellt und angewandt wird.\nJ
 ede/r kann ein aktuelles Thema oder Anliegen vertrauensvoll auf den Tisch 
 legen.\nMänner sind ebenfalls herzlich willkommen :-)\n\nBitte meldet euc
 h bis 1 Tag vorher an bei Jenison Thomkins unter www.nlp-atelier.de / Emai
 l: info@nlp-atelier.de / Tel: 0221-525799
CATEGORIES:FEMME TOTAL
END:VEVENT
BEGIN:VTIMEZONE
TZID:Europe/Berlin
X-LIC-LOCATION:Europe/Berlin
BEGIN:STANDARD
DTSTART:20191027T020000
TZOFFSETFROM:+0200
TZOFFSETTO:+0100
TZNAME:CET
END:STANDARD
END:VTIMEZONE
END:VCALENDAR