BEGIN:VCALENDAR
VERSION:2.0
PRODID:-//wp-events-plugin.com//7.2.3.1//EN
TZID:Europe/Berlin
X-WR-TIMEZONE:Europe/Berlin
BEGIN:VEVENT
UID:0-3633@femmetotal.de
DTSTART;TZID=Europe/Berlin:20220120T100000
DTEND;TZID=Europe/Berlin:20220120T123000
DTSTAMP:20211214T132342Z
URL:https://femmetotal.de/events/coaching-club-online-2-2022-01-20/
SUMMARY:Coaching-Club online
DESCRIPTION:Was soll sich im neuen Jahr verändern? Was willst du erreichen
 ? Setze dir bewusst Ziele\, denn wenn du nicht weißt\, was du willst\, ko
 mmst du nirgendwo an! Was sind deine authentischen Ziele? Ich zeige dir di
 e besten Methoden aus dem NLP\, wie du deine Ziele mit allen Sinnen erspü
 ren und dich für den Weg motivieren kannst! Dann klappt es auch!\n\nHier 
 gehts zum Ticket: www.eventbrite.de/e/deine-ziele-in-2022-coaching-club-ti
 ckets-227613015657\n\nKontakt: Jenison Thomkins / www.nlp-atelier.de / Ema
 il: info@nlp-atelier.de / Tel: 0221-525799
CATEGORIES:FEMME TOTAL
END:VEVENT
BEGIN:VTIMEZONE
TZID:Europe/Berlin
X-LIC-LOCATION:Europe/Berlin
BEGIN:STANDARD
DTSTART:20211031T020000
TZOFFSETFROM:+0200
TZOFFSETTO:+0100
TZNAME:CET
END:STANDARD
END:VTIMEZONE
END:VCALENDAR