BEGIN:VCALENDAR
VERSION:2.0
PRODID:-//wp-events-plugin.com//7.2.3.1//EN
TZID:Europe/Berlin
X-WR-TIMEZONE:Europe/Berlin
BEGIN:VEVENT
UID:0-3642@femmetotal.de
DTSTART;TZID=Europe/Berlin:20221027T100000
DTEND;TZID=Europe/Berlin:20221027T123000
DTSTAMP:20220914T074905Z
URL:https://femmetotal.de/events/coaching-club-online-2-2022-10-27/
SUMMARY:Coaching-Club online
DESCRIPTION:– wie unsere Familiengeschichte uns unbewusst in allen Lebens
 lagen und im Beruf beeinflusst! Finde verborgene ererbte Botschaften und A
 ufträge heraus! Lass dich berühren und entdecke erstaunlich klare Muster
  in deinem Leben\, die eine lange Vorgeschichte haben!\n\nDieser Vormittag
 s-Workshop ist intensiv! Am Besten forscht du vorher und befragst deine El
 tern und Großeltern nach ihrem Leben\, denn diese Informationen unterstü
 tzen deinen Erkenntnisprozess!\n\nAus der Epigenetik wissen wir\, dass bes
 onders wichtige Lehren und Erkenntnisse\, sowie körperliche und seelische
  Symptome in der Familie an bis zu 4 Generationen weitergegeben werden kö
 nnen. Deshalb ist es wichtig zu klären\, was in deinem Leben und an deine
 m Verhalten du ändern kannst und wo du tiefer graben musst!\n\nLass dich 
 berühren und erkenne wesentliche Muster in deinem Leben\, die eine lange 
 Vorgeschichte haben!\n\nHier bekommst du dein Ticket: www.eventbrite.de/e/
 die-sehnsucht-der-ahnen-coaching-club-online-tickets-305571010117\n\nKonta
 kt: Jenison Thomkins / www.nlp-atelier.de / Email: info@nlp-atelier.de / T
 el: 0221-525799
CATEGORIES:FEMME TOTAL
END:VEVENT
BEGIN:VTIMEZONE
TZID:Europe/Berlin
X-LIC-LOCATION:Europe/Berlin
BEGIN:DAYLIGHT
DTSTART:20220327T030000
TZOFFSETFROM:+0100
TZOFFSETTO:+0200
TZNAME:CEST
END:DAYLIGHT
END:VTIMEZONE
END:VCALENDAR