BEGIN:VCALENDAR
VERSION:2.0
PRODID:-//wp-events-plugin.com//7.2.3.1//EN
TZID:Europe/Berlin
X-WR-TIMEZONE:Europe/Berlin
BEGIN:VEVENT
UID:0-3392@femmetotal.de
DTSTART;TZID=Europe/Berlin:20210429T100000
DTEND;TZID=Europe/Berlin:20210429T123000
DTSTAMP:20210317T123120Z
URL:https://femmetotal.de/events/coaching-club-online-2021-04-29/
SUMMARY:Coaching-Club online
DESCRIPTION:Frechheit siegt – wie du die “Bravheit” überwindest\n\n
 Über sich selbst zu lachen setzt einen befreienden Entwicklungsschub in G
 ang\, der zu Leichtigkeit führt. Es ist wie eine Offenbarung\, besonders 
 für “brave Töchter” sehr zu empfehlen.\n\nVerfahrene Situationen und
  eingefleischte Glaubenssätze verschwinden wie weggeblasen. Das ist der 
 äußerst wirksame\, und urkomische\, provokative Ansatz von Therapeut Fra
 nk Farelli. Was provokativer Stil im Coaching ist\, und wie man ihn in unt
 erschiedlichen Situationen für sich nutzen kann\, lernst du an diesem Vor
 mittag.\n\nHier gehts zum Ticket: www.eventbrite.de/e/frechheit-siegt-wie-
 du-die-bravheit-uberwindest-coaching-club-tickets-135003821063\n\nKontakt:
  Jenison Thomkins unter www.nlp-atelier.de / Email: info@nlp-atelier.de / 
 Tel: 0221-525799
CATEGORIES:FEMME TOTAL
END:VEVENT
BEGIN:VTIMEZONE
TZID:Europe/Berlin
X-LIC-LOCATION:Europe/Berlin
BEGIN:DAYLIGHT
DTSTART:20210328T030000
TZOFFSETFROM:+0100
TZOFFSETTO:+0200
TZNAME:CEST
END:DAYLIGHT
END:VTIMEZONE
END:VCALENDAR