BEGIN:VCALENDAR
VERSION:2.0
PRODID:-//wp-events-plugin.com//7.2.3.1//EN
TZID:Europe/Berlin
X-WR-TIMEZONE:Europe/Berlin
BEGIN:VEVENT
UID:0-3396@femmetotal.de
DTSTART;TZID=Europe/Berlin:20210819T100000
DTEND;TZID=Europe/Berlin:20210819T123000
DTSTAMP:20210714T115806Z
URL:https://femmetotal.de/events/coaching-club-online-2021-08-19/
SUMMARY:Coaching-Club online
DESCRIPTION:Deine Persönlichkeit im Spiegel der 4D-Typologie\n\nSpielerisc
 h-kreativ und theoretisch fundiert erlebst du\, wie sich ein „kleines Ki
 nd“\, „Besserwisser“\, „aggressiver Einschüchterer“ oder ein 
 „Rückzieher“ verhält\, woran du diese Persönlichkeitsmuster erkenns
 t und du erprobst\, wie sie sich verändern lassen. Dieses Wissen hilft di
 r\, deine Familie\, Partnerschaft und berufliche Konflikte zu verstehen un
 d zu meistern!\n\nHier gehts zum Ticket: www.eventbrite.de/x/deine-personl
 ichkeit-im-spiegel-der-4d-typologie-coaching-club-tickets-141698308455\n\n
 Kontakt: Jenison Thomkins / www.nlp-atelier.de / Email: info@nlp-atelier.d
 e / Tel: 0221-525799
CATEGORIES:FEMME TOTAL
END:VEVENT
BEGIN:VTIMEZONE
TZID:Europe/Berlin
X-LIC-LOCATION:Europe/Berlin
BEGIN:DAYLIGHT
DTSTART:20210328T030000
TZOFFSETFROM:+0100
TZOFFSETTO:+0200
TZNAME:CEST
END:DAYLIGHT
END:VTIMEZONE
END:VCALENDAR