BEGIN:VCALENDAR
VERSION:2.0
PRODID:-//wp-events-plugin.com//7.2.3.1//EN
TZID:Europe/Berlin
X-WR-TIMEZONE:Europe/Berlin
BEGIN:VEVENT
UID:0-3397@femmetotal.de
DTSTART;TZID=Europe/Berlin:20210902T100000
DTEND;TZID=Europe/Berlin:20210902T123000
DTSTAMP:20210816T120011Z
URL:https://femmetotal.de/events/coaching-club-online-2021-09-02/
SUMMARY:Coaching-Club online
DESCRIPTION:Erweitere dein Bewusstsein und lass deine Probleme los!\n\nStat
 t langwierig nach Ursachen in der Vergangenheit zu forschen bietet der „
 Wholeness Process“ von Connirae Andreas eine faszinierend einfache Metho
 de\, um Distanz zu gewinnen von belastenden Erinnerungen und Glaubenssätz
 en. Spannend und erweiternd für NLP-Neulinge und alle Freunde des Core Tr
 ansformation Prozesses\, den sie auch erfunden hat!\n\nHier gehts zum Tick
 et: www.eventbrite.de/x/erweitere-dein-bewusstsein-und-lass-deine-probleme
 -los-coaching-club-tickets-141711443743\n\nKontakt: Jenison Thomkins / www
 .nlp-atelier.de / Email: info@nlp-atelier.de / Tel: 0221-525799
CATEGORIES:FEMME TOTAL
END:VEVENT
BEGIN:VTIMEZONE
TZID:Europe/Berlin
X-LIC-LOCATION:Europe/Berlin
BEGIN:DAYLIGHT
DTSTART:20210328T030000
TZOFFSETFROM:+0100
TZOFFSETTO:+0200
TZNAME:CEST
END:DAYLIGHT
END:VTIMEZONE
END:VCALENDAR