BEGIN:VCALENDAR
VERSION:2.0
PRODID:-//wp-events-plugin.com//7.2.3.1//EN
TZID:Europe/Berlin
X-WR-TIMEZONE:Europe/Berlin
BEGIN:VEVENT
UID:0-3398@femmetotal.de
DTSTART;TZID=Europe/Berlin:20211014T100000
DTEND;TZID=Europe/Berlin:20211014T123000
DTSTAMP:20210914T124644Z
URL:https://femmetotal.de/events/coaching-club-online-2021-10-14/
SUMMARY:Coaching-Club online
DESCRIPTION:“Folge deiner eigenen Spur!”\n\nMarion Brando sagte: “Auf
  meinem eigenen Weg kann mich niemand überholen!” Klare Worte! Und wer 
 entscheidet denn bei dir meistens\, der Kopf oder der Bauch? Um deiner eig
 enen Spur zu folgen brauchst du beides. Doch wie findest du heraus\, was d
 u wirklich willst? Und wie bewegst du den Kopf dazu\, mitzumachen und nich
 t immer nur klug zu schwätzen oder alles anzuzweifeln? „Somatische Mark
 er“ rücken an diesem Vormittag in den Fokus. Wir erforschen die Signale
  des Körpers und du spürst einen beglückenden inneren Frieden!\n\nHier 
 gehts zum Ticket: www.eventbrite.de/x/folge-deiner-eigenen-spur-coaching-c
 lub-online-tickets-158984997407\n\nKontakt: Jenison Thomkins / www.nlp-ate
 lier.de / Email: info@nlp-atelier.de / Tel: 0221-525799
CATEGORIES:FEMME TOTAL
END:VEVENT
BEGIN:VTIMEZONE
TZID:Europe/Berlin
X-LIC-LOCATION:Europe/Berlin
BEGIN:DAYLIGHT
DTSTART:20210328T030000
TZOFFSETFROM:+0100
TZOFFSETTO:+0200
TZNAME:CEST
END:DAYLIGHT
END:VTIMEZONE
END:VCALENDAR