BEGIN:VCALENDAR
VERSION:2.0
PRODID:-//wp-events-plugin.com//7.2.3.1//EN
TZID:Europe/Berlin
X-WR-TIMEZONE:Europe/Berlin
BEGIN:VEVENT
UID:0-3400@femmetotal.de
DTSTART;TZID=Europe/Berlin:20211209T100000
DTEND;TZID=Europe/Berlin:20211209T123000
DTSTAMP:20211115T152602Z
URL:https://femmetotal.de/events/coaching-club-online-2021-12-09/
SUMMARY:Coaching-Club online
DESCRIPTION:Mithilfe tiefgehender NLP-Formate findest du heraus\, wie du vo
 n Unnützem und Negativem ohne Bauchschmerzen und Hadern loslassen kannst.
  Ob zugemüllter Schreibtisch\, belastende Beziehungen oder negative Glaub
 enssätze\, du erlebst die befreiende Wirkung von innerer Klärung und Ord
 nung\, die es dir leicht macht\, Prioritäten für ein selbstbestimmtes Le
 ben zu setzen.\n\nHier gehts zum Ticket: www.eventbrite.de/x/loslassen-wie
 -geht-das-coaching-club-online-tickets-168106758841\n\nKontakt: Jenison Th
 omkins / www.nlp-atelier.de / Email: info@nlp-atelier.de / Tel: 0221-52579
 9
CATEGORIES:FEMME TOTAL
END:VEVENT
BEGIN:VTIMEZONE
TZID:Europe/Berlin
X-LIC-LOCATION:Europe/Berlin
BEGIN:STANDARD
DTSTART:20211031T020000
TZOFFSETFROM:+0200
TZOFFSETTO:+0100
TZNAME:CET
END:STANDARD
END:VTIMEZONE
END:VCALENDAR