BEGIN:VCALENDAR
VERSION:2.0
PRODID:-//wp-events-plugin.com//7.2.3.1//EN
TZID:Europe/Berlin
X-WR-TIMEZONE:Europe/Berlin
BEGIN:VEVENT
UID:0-3595@femmetotal.de
DTSTART;TZID=Europe/Berlin:20220128T100000
DTEND;TZID=Europe/Berlin:20220128T120000
DTSTAMP:20211214T130621Z
URL:https://femmetotal.de/events/femme-together-4-2022-01-28/
SUMMARY:Femme-Together
DESCRIPTION:Jeden letzten Freitag im Monat treffen sich die Femmes online 
 über Zoom von 10.00 - 12.00 Uhr\, um sich kennen zu lernen\, zu netzwerke
 n und sich auszutauschen. Hier werden wichtige Informationen zum Thema Sel
 bstständigkeit geteilt\, u.a. auch in einem 5-minütigem Impulsvortrag. N
 achdem wir unser Netzwerk vorgestellt haben\, bekommt jede Teilnehmerin di
 e Möglichkeit\, ebenfalls kurz zu erzählen\, wer sie ist und was sie mac
 ht. Eine Mitfemme präsentiert sich 10 Minuten intensiver\, sodass jede vo
 n uns die Möglichkeit hat\, sie noch besser kennen zu lernen. Wenn wir un
 s kennen\, können wir uns auch empfehlen. Das ist aktives Netzwerken! Im 
 Anschluss ist Raum und Zeit für Austausch\, Fragen und mehr…\n\nBitte b
 esorgt euch rechtzeitig vorab die Tickets (Mitfemmes 8€\, Gästinnen 11 
 €) über den Link\, damit wir pünktlich starten können. Wir freuen uns
  auf euch :-)\n\nDein Ticket erhältst du hier: www.eventbrite.de/e/femme-
 together-im-januar-online-tickets-227133019977
CATEGORIES:FEMME TOTAL
END:VEVENT
BEGIN:VTIMEZONE
TZID:Europe/Berlin
X-LIC-LOCATION:Europe/Berlin
BEGIN:STANDARD
DTSTART:20211031T020000
TZOFFSETFROM:+0200
TZOFFSETTO:+0100
TZNAME:CET
END:STANDARD
END:VTIMEZONE
END:VCALENDAR