BEGIN:VCALENDAR
VERSION:2.0
PRODID:-//wp-events-plugin.com//7.2.3.1//EN
TZID:Europe/Berlin
X-WR-TIMEZONE:Europe/Berlin
BEGIN:VEVENT
UID:0-3877@femmetotal.de
DTSTART;TZID=Europe/Berlin:20250328T100000
DTEND;TZID=Europe/Berlin:20250328T130000
DTSTAMP:20241202T112034Z
URL:https://femmetotal.de/events/femme-together-5-2025-03-28/
SUMMARY:Femme-Together
DESCRIPTION:Jeden letzten Freitag im Monat treffen sich die Femmes zum Femm
 e Together\, um sich kennen zu lernen\, auszutauschen und zu netzwerken. W
 enn wir uns kennen\, können wir uns auch gut weiter empfehlen. Dafür nut
 zen wir auch unseren Klüngelgutschein.\n\nOrt: Die Paarcouch | Doris Spin
 dler\, Wilhelmstr. 4\, 50733 Köln\, Lageplan\n\nAnmeldung bitte per Mail 
 an eliana@moraviaart.com
CATEGORIES:FEMME TOTAL
END:VEVENT
BEGIN:VTIMEZONE
TZID:Europe/Berlin
X-LIC-LOCATION:Europe/Berlin
BEGIN:STANDARD
DTSTART:20241027T020000
TZOFFSETFROM:+0200
TZOFFSETTO:+0100
TZNAME:CET
END:STANDARD
END:VTIMEZONE
END:VCALENDAR