BEGIN:VCALENDAR
VERSION:2.0
PRODID:-//wp-events-plugin.com//7.2.3.1//EN
TZID:Europe/Berlin
X-WR-TIMEZONE:Europe/Berlin
BEGIN:VEVENT
UID:0-2550@femmetotal.de
DTSTART;TZID=Europe/Berlin:20191216T180000
DTEND;TZID=Europe/Berlin:20191216T230000
DTSTAMP:20191118T162852Z
URL:https://femmetotal.de/events/weihnachtsschmaus-6/
SUMMARY:Weihnachtsschmaus
DESCRIPTION:Hmm! Eliana kocht Hirsch\, aber auch Vegetarisches. Es gibt Sal
 ate\, Gemüse\, Nachtische\, Prosecco\, Wein und Saft in Hülle und Fülle
 . Und – ganz wichtig\, jede bringt ein spannend eingepacktes Wichtelgesc
 henk mit!\nUm eins zu bekommen\, schenkt jede eine kleine Darbietung\, z.B
 . ein Gedicht\, eine kurze Weihnachtsgeschichte\, ein Lied\, ein Sketch wa
 s auch immer dir gefällt!\nDadurch – und durch die witzige Moderation u
 nserer Clownin Gisela  – wird es ein sehr lustiger und lukullischer Aben
 d.\n\nUm 18 Uhr beginnen wir mit dem Dinner. Vorher\, ab 16.30 Uhr\, freue
 n wir uns über Mithilfe beim Umräumen des Ateliers zum weihnachtlichen R
 estaurant\, Tische eindecken\, Dekorieren und Einstiegsprosecco:-)\n\nKost
 en für 3 Gänge-Menü und alle Getränke: 25.-€ für Mitfemmes\, 30.-
 € für Gästinnen.\n\nVerbindliche Anmeldung bis zum 09.12.19 an: info@f
 emmetotal.de
CATEGORIES:FEMME TOTAL
END:VEVENT
BEGIN:VTIMEZONE
TZID:Europe/Berlin
X-LIC-LOCATION:Europe/Berlin
BEGIN:STANDARD
DTSTART:20191027T020000
TZOFFSETFROM:+0200
TZOFFSETTO:+0100
TZNAME:CET
END:STANDARD
END:VTIMEZONE
END:VCALENDAR