BEGIN:VCALENDAR
VERSION:2.0
PRODID:-//wp-events-plugin.com//7.2.3.1//EN
TZID:Europe/Berlin
X-WR-TIMEZONE:Europe/Berlin
BEGIN:VEVENT
UID:0-1184@femmetotal.de
DTSTART;TZID=Europe/Berlin:20170203T180000
DTEND;TZID=Europe/Berlin:20170205T140000
DTSTAMP:20170202T085111Z
URL:https://femmetotal.de/events/ziele-erreichen-deine-nlp-practitioner-au
 sbildung-2/
SUMMARY:Ziele erreichen! Deine NLP-Practitioner-Ausbildung :-)
DESCRIPTION:Im Practitioner machen Sie große Schritte vorwärts!\n\nEhen w
 erden geschlossen\, Kinder geboren\, die Karriereleiter hochgeklettert ode
 r die Selbständigkeit begonnen!\n\nWenn Sie die Schallmauer Ihrer Komfort
 zone durchbrechen und ihr Leben endlich so gestalten möchten\, wie Sie es
  sich schon immer gewünscht haben\, dann ist die NLP-Practitioner-Ausbild
 ung dazu ein hervorragendes Mittel! Sie werden kompetent und respektvoll a
 uf Ihrem persönlichen Weg zu Ihren Zielen und ihren verborgenen Potential
 en unterstützt!\n\nWelche Themen lernen Sie im NLP- Practitioner? Wie kö
 nnen Sie sie anwenden? Was kann man damit erreichen?\n\n    Reframing: pos
 itives Denken für Kommunikation\, Therapie und Marketing!\n    Trance: En
 tspannung\, Kreativität\, innerer Friede\, das Geheimnis der Hypnotiseure
 \, Phantasiereisen selbst entwickeln\, erfinden\, schreiben\, Phantasierei
 sen Schreibwerkstatt\n    Ziele-Collage-Workshop: Erfolgsaussichten steige
 rn durch die Technik des Visualisierens\n    Bilder statt Worte für autom
 atischen Erfolg\, der Wegweiser fürs Unbewusste\n    Timeline: "Es ist ni
 e zu spät\, eine schöne Kindheit gehabt zu haben!"\n    Ankern: Paradise
  now!\n    Meta-Modell: Schlagfertigkeit und Präzision des sprachlichen A
 usdrucks\n\nWas ist das Besondere an der NLP-Ausbildung im Atelier für NL
 P&Persönlichkeitsentwicklung?\n\nSie lernen nicht nur NLP kennen\, sonder
 n erleben gleichzeitig\, durch Jenisons musische und wissenschaftliche Kom
 petenz\, eine Vielzahl an kreativen Methoden und Inhalten. Sie werden oft 
 staunen und über sich selbst hinauswachsen!\n\nTiefgehende Methoden aus d
 er systemischen Praxis und Natur-Resonanz-Übungen aus dem Schamanismus be
 reichern Ihre Ausbildungszeit und erweitern Ihre Wahrnehmung des Lebenshin
 tergrundes anderer Menschen!\n\nVisions- und Zielearbeit ist ein fortwähr
 ender Bestandteil der Ausbildungswochenenden\, die so zu einem kraftvollen
  Motor Ihrer Persönlichkeitsentwicklung wird.\n\n"Die Gruppe ist so toll!
 " Das hört man in Jenison Seminaren immer wieder. Wann hatten Sie seit de
 r Schulzeit je wieder Gelegenheit\, soviel interessanten und freundlichen 
 Menschen hautnah und offen zu begegnen und sich gegenseitig beim Lernen un
 d Leben zu unterstützen?\n\nNLP ist seit 40 Jahren eine der erfolgreichst
 en Methoden im Coaching\, im Business und auch als Therapie-Methode. Die n
 eue Gehirnforschung bestätigt\, was die Begründer Bandler und Grinder in
  den 80ger Jahren schon herausgefunden haben: es ist möglich\, in kurzer 
 Zeit durch NLP-Interventionen dauerhafte Verhaltens- und Änderungen negat
 iver Gedanken zu erreichen.\n\nDie NLP-Ausbildung im "Atelier für NLP&Per
 sönlichkeitsentwicklung" ist vom Dachverband DVNLP zertifiziert\, einer d
 er größten Weiterbildungsverbände in Deutschland und Europa!\n\nJenison
 s Anliegen bei den – sich absichtlich über einen längeren Zeitraum ers
 treckenden - NLP-Ausbildungen ist\, Sie gemäß Ihrer eigenen Wünsche und
  Ziele individuell auf Ihrem Weg zu begleiten und umfassend in die Methode
 n des NLP einzuführen.\n\nUnser wichtigster Wert ist Freiheit!\nDeshalb u
 nterrichten wir NLP so\, dass Sie alle Schritte und Vorgänge auch verstan
 desmäßig nachvollziehen können und selbst entscheiden\, was und wieviel
  Sie mitmachen und -nehmen möchten.\n\nDer NRW Bildungsscheck und Bildung
 sprämie können bis zu 500€ eingelöst werden!\n\nAnmelden bei Jenison 
 Thomkins unter www.nlp-atelier.de / Email: info@nlp-atelier.de / Tel: 0221
 -525799
CATEGORIES:Mitfemmes-Termine
END:VEVENT
BEGIN:VTIMEZONE
TZID:Europe/Berlin
X-LIC-LOCATION:Europe/Berlin
BEGIN:STANDARD
DTSTART:20161030T020000
TZOFFSETFROM:+0200
TZOFFSETTO:+0100
TZNAME:CET
END:STANDARD
END:VTIMEZONE
END:VCALENDAR