BEGIN:VCALENDAR
VERSION:2.0
PRODID:-//wp-events-plugin.com//7.2.3.1//EN
TZID:Europe/Berlin
X-WR-TIMEZONE:Europe/Berlin
BEGIN:VEVENT
UID:0-3500@femmetotal.de
DTSTART;TZID=Europe/Berlin;VALUE=DATE:20210506
DTEND;TZID=Europe/Berlin;VALUE=DATE:20210507
DTSTAMP:20210415T070905Z
URL:https://femmetotal.de/events/zoom-schulung-femmetotal/
SUMMARY:Zoom-Schulung femmetotal
DESCRIPTION:An alle Mitfemmes:\n\nKatrin\, Ulrike\, Nicole L. und Jenison h
 aben sich bei ihrer letzten Sitzung Gedanken dazu gemacht\, wie wir euch o
 nline mehr ins Boot holen und in diesen Zeiten unterstützen können.\nJen
 ison bietet euch an\, eine Femmes-Schulung zu Zoom und zur besseren Nutzun
 g des Akademie-Kalenders zu machen.\nAls Termin schlägt sie vor: Donnerst
 ag\, 6. Mai um 11 oder 18.30 Uhr.\n\nWir bitte um eure baldige Anmeldung 
 über E-Mail: info@femmetotal.de\,  Betreff „Zoom-Schulung femmetotal“
 \n
CATEGORIES:FEMME TOTAL
END:VEVENT
BEGIN:VTIMEZONE
TZID:Europe/Berlin
X-LIC-LOCATION:Europe/Berlin
BEGIN:DAYLIGHT
DTSTART:20210328T030000
TZOFFSETFROM:+0100
TZOFFSETTO:+0200
TZNAME:CEST
END:DAYLIGHT
END:VTIMEZONE
END:VCALENDAR